BEGIN:VCALENDAR
VERSION:2.0
PRODID:-//Rocky Duval - ECPv6.15.20//NONSGML v1.0//EN
CALSCALE:GREGORIAN
METHOD:PUBLISH
X-WR-CALNAME:Rocky Duval
X-ORIGINAL-URL:https://rockyduval.com
X-WR-CALDESC:Events for Rocky Duval
REFRESH-INTERVAL;VALUE=DURATION:PT1H
X-Robots-Tag:noindex
X-PUBLISHED-TTL:PT1H
BEGIN:VTIMEZONE
TZID:UTC
BEGIN:STANDARD
TZOFFSETFROM:+0000
TZOFFSETTO:+0000
TZNAME:UTC
DTSTART:20230101T000000
END:STANDARD
END:VTIMEZONE
BEGIN:VEVENT
DTSTART;VALUE=DATE:20241120
DTEND;VALUE=DATE:20241121
DTSTAMP:20260422T074033
CREATED:20240727T104023Z
LAST-MODIFIED:20240727T112421Z
UID:290-1732060800-1732147199@rockyduval.com
SUMMARY:Faure Requiem with L'Harmonie des Saisons
DESCRIPTION:
URL:https://rockyduval.com/event/faure-requiem-with-lharmonie-des-saisons/
LOCATION:NY
ATTACH;FMTTYPE=image/jpeg:https://rockyduval.com/wp-content/uploads/2024/07/lharmonie-des-saisons.jpg
END:VEVENT
BEGIN:VEVENT
DTSTART;TZID=UTC:20241124T000000
DTEND;TZID=UTC:20241124T000000
DTSTAMP:20260422T074033
CREATED:20240727T104021Z
LAST-MODIFIED:20240727T113006Z
UID:291-1732406400-1732406400@rockyduval.com
SUMMARY:Stomping Grounds (Reading) with Seattle Opera
DESCRIPTION:
URL:https://rockyduval.com/event/stomping-grounds-reading-with-seattle-opera/
LOCATION:Seattle Opera\, 363 Mercer St\, Seattle\, WA\, 98109\, United States
ATTACH;FMTTYPE=image/jpeg:https://rockyduval.com/wp-content/uploads/2024/07/seattle-opera.jpg
END:VEVENT
END:VCALENDAR