BEGIN:VCALENDAR
VERSION:2.0
PRODID:-//Rocky Duval - ECPv6.15.20//NONSGML v1.0//EN
CALSCALE:GREGORIAN
METHOD:PUBLISH
X-WR-CALNAME:Rocky Duval
X-ORIGINAL-URL:https://rockyduval.com
X-WR-CALDESC:Events for Rocky Duval
REFRESH-INTERVAL;VALUE=DURATION:PT1H
X-Robots-Tag:noindex
X-PUBLISHED-TTL:PT1H
BEGIN:VTIMEZONE
TZID:UTC
BEGIN:STANDARD
TZOFFSETFROM:+0000
TZOFFSETTO:+0000
TZNAME:UTC
DTSTART:20220101T000000
END:STANDARD
END:VTIMEZONE
BEGIN:VEVENT
DTSTART;VALUE=DATE:20231115
DTEND;VALUE=DATE:20231116
DTSTAMP:20260422T025027
CREATED:20230727T092352Z
LAST-MODIFIED:20240727T111206Z
UID:268-1700006400-1700092799@rockyduval.com
SUMMARY:Schauburg – Dresden Germany: Poetry + Music with Sebastian23
DESCRIPTION:
URL:https://rockyduval.com/event/schauburg-dresden-germany-poetry-music-with-sebastian23/
CATEGORIES:Past Shows
ATTACH;FMTTYPE=image/jpeg:https://rockyduval.com/wp-content/uploads/2024/07/IMG_5728.jpg
END:VEVENT
BEGIN:VEVENT
DTSTART;VALUE=DATE:20231113
DTEND;VALUE=DATE:20231114
DTSTAMP:20260422T025027
CREATED:20230727T092301Z
LAST-MODIFIED:20240727T111137Z
UID:266-1699833600-1699919999@rockyduval.com
SUMMARY:RIFF – Bochum\, Germany – Poetry + Music with Sebastian23
DESCRIPTION:RIFF – Bochum\, Germany – Poetry + Music with Sebastian23
URL:https://rockyduval.com/event/riff-bochum-germany-poetry-music-with-sebastian23/
CATEGORIES:Past Shows
ATTACH;FMTTYPE=image/jpeg:https://rockyduval.com/wp-content/uploads/2024/07/DSCF3589.jpg
END:VEVENT
END:VCALENDAR