BEGIN:VCALENDAR
VERSION:2.0
PRODID:-//Rocky Duval - ECPv6.15.20//NONSGML v1.0//EN
CALSCALE:GREGORIAN
METHOD:PUBLISH
X-WR-CALNAME:Rocky Duval
X-ORIGINAL-URL:https://rockyduval.com
X-WR-CALDESC:Events for Rocky Duval
REFRESH-INTERVAL;VALUE=DURATION:PT1H
X-Robots-Tag:noindex
X-PUBLISHED-TTL:PT1H
BEGIN:VTIMEZONE
TZID:UTC
BEGIN:STANDARD
TZOFFSETFROM:+0000
TZOFFSETTO:+0000
TZNAME:UTC
DTSTART:20240101T000000
END:STANDARD
END:VTIMEZONE
BEGIN:VEVENT
DTSTART;VALUE=DATE:20251115
DTEND;VALUE=DATE:20251116
DTSTAMP:20260422T024432
CREATED:20251025T073031Z
LAST-MODIFIED:20251109T163011Z
UID:438-1763164800-1763251199@rockyduval.com
SUMMARY:Hildegard/Bernard\, featuring Rocky Duval
DESCRIPTION:
URL:https://rockyduval.com/event/hildegard-bernard-featuring-rocky-duval/
LOCATION:Church of St. Mary\, 440 Grand St.\, New York\, NY\, 10002\, United States
ATTACH;FMTTYPE=image/png:https://rockyduval.com/wp-content/uploads/2025/10/croppedHildegardis-Antoniuskerk_aerdenhout.png
END:VEVENT
BEGIN:VEVENT
DTSTART;TZID=UTC:20251122T013000
DTEND;TZID=UTC:20251122T033000
DTSTAMP:20260422T024432
CREATED:20251025T063600Z
LAST-MODIFIED:20251025T063600Z
UID:434-1763775000-1763782200@rockyduval.com
SUMMARY:MIXT: A Living Gallery reMount
DESCRIPTION:
URL:https://rockyduval.com/event/mixt-a-living-gallery-remount/
LOCATION:NY
ATTACH;FMTTYPE=image/webp:https://rockyduval.com/wp-content/uploads/2025/10/f5479404-a08b-4eb1-b49d-c2fa6e1026cb.webp
END:VEVENT
BEGIN:VEVENT
DTSTART;VALUE=DATE:20251217
DTEND;VALUE=DATE:20251218
DTSTAMP:20260422T024432
CREATED:20251025T072637Z
LAST-MODIFIED:20251025T074837Z
UID:439-1765929600-1766015999@rockyduval.com
SUMMARY:Classics for Christmas
DESCRIPTION:
URL:https://rockyduval.com/event/classics-for-christmas/
LOCATION:Carnegie Hall\, 57th Street and\, 7th Ave\, New York\, NY\, 10019\, United States
ATTACH;FMTTYPE=image/jpeg:https://rockyduval.com/wp-content/uploads/2025/10/Musica-Sacra-Dec-18-2024-0011-scaled-1.jpg
END:VEVENT
BEGIN:VEVENT
DTSTART;VALUE=DATE:20260116
DTEND;VALUE=DATE:20260117
DTSTAMP:20260422T024432
CREATED:20251025T073453Z
LAST-MODIFIED:20251025T073818Z
UID:440-1768521600-1768607999@rockyduval.com
SUMMARY:Claude le Jeune: Dodecacorde\, Theotokos Series
DESCRIPTION:
URL:https://rockyduval.com/event/claude-le-jeune-dodecacorde-theotokos-series/
LOCATION:St. Mary’s Catholic\, 440 Grand Street\, New York\, 10002\, United States
ATTACH;FMTTYPE=image/webp:https://rockyduval.com/wp-content/uploads/2025/10/TheotokosperformsatSt.Marys_003.webp
END:VEVENT
BEGIN:VEVENT
DTSTART;VALUE=DATE:20260117
DTEND;VALUE=DATE:20260119
DTSTAMP:20260422T024432
CREATED:20251025T074337Z
LAST-MODIFIED:20251025T074349Z
UID:441-1768608000-1768780799@rockyduval.com
SUMMARY:Harmonie Collective Schubert Project
DESCRIPTION:
URL:https://rockyduval.com/event/harmonie-collective-schubert-project/
LOCATION:St. John in the Village\, 218 W 11th St\, New York\, 10014\, United States
ATTACH;FMTTYPE=image/webp:https://rockyduval.com/wp-content/uploads/2025/10/MusicalHarmonyinWarmHues.webp
END:VEVENT
BEGIN:VEVENT
DTSTART;VALUE=DATE:20260221
DTEND;VALUE=DATE:20260222
DTSTAMP:20260422T024432
CREATED:20260204T070123Z
LAST-MODIFIED:20260204T070200Z
UID:469-1771632000-1771718399@rockyduval.com
SUMMARY:MELZITA Album Release
DESCRIPTION:
URL:https://rockyduval.com/event/melzita-album-release/
LOCATION:457 Broome St\, 457 Broome Street\, New York\, NY\, 10013\, United States
ATTACH;FMTTYPE=image/webp:https://rockyduval.com/wp-content/uploads/2026/02/image.webp
END:VEVENT
BEGIN:VEVENT
DTSTART;VALUE=DATE:20260226
DTEND;VALUE=DATE:20260227
DTSTAMP:20260422T024432
CREATED:20251025T075448Z
LAST-MODIFIED:20251025T075448Z
UID:442-1772064000-1772150399@rockyduval.com
SUMMARY:Viaggio d’Amore
DESCRIPTION:
URL:https://rockyduval.com/event/viaggio-damore/
LOCATION:St. Malachy’s Church – The Actors’ Chapel\, 239 West 49th Street\, New York\, NY\, 10019\, United States
ATTACH;FMTTYPE=image/jpeg:https://rockyduval.com/wp-content/uploads/2025/10/StMalachyInt1.jpg
END:VEVENT
BEGIN:VEVENT
DTSTART;VALUE=DATE:20260226
DTEND;VALUE=DATE:20260227
DTSTAMP:20260422T024432
CREATED:20260204T070428Z
LAST-MODIFIED:20260204T070428Z
UID:470-1772064000-1772150399@rockyduval.com
SUMMARY:Lazzuli Baroque at GEMS
DESCRIPTION:
URL:https://rockyduval.com/event/lazzuli-baroque-at-gems/
LOCATION:St. Malachy’s Church – The Actors’ Chapel\, 239 West 49th Street\, New York\, NY\, 10019\, United States
ATTACH;FMTTYPE=image/jpeg:https://rockyduval.com/wp-content/uploads/2026/02/lazzuli-baroque_16x9.jpg
END:VEVENT
BEGIN:VEVENT
DTSTART;VALUE=DATE:20260306
DTEND;VALUE=DATE:20260308
DTSTAMP:20260422T024432
CREATED:20251025T080012Z
LAST-MODIFIED:20251025T080012Z
UID:461-1772755200-1772927999@rockyduval.com
SUMMARY:Ordo Virtutum by Hildegard von Bingen
DESCRIPTION:
URL:https://rockyduval.com/event/ordo-virtutum-by-hildegard-von-bingen/
LOCATION:Holy Apostles Episcopal Church\, 612 Greenwood Ave\, Brooklyn\, New York\, NY\, 11218\, United States
ATTACH;FMTTYPE=image/jpeg:https://rockyduval.com/wp-content/uploads/2025/10/fea-hildegard-of-bingen-e1595367400181-962x539-1.jpg
END:VEVENT
BEGIN:VEVENT
DTSTART;VALUE=DATE:20260306
DTEND;VALUE=DATE:20260308
DTSTAMP:20260422T024432
CREATED:20260204T070826Z
LAST-MODIFIED:20260204T070826Z
UID:471-1772755200-1772927999@rockyduval.com
SUMMARY:Hildegard's Ordo Virtutum
DESCRIPTION:
URL:https://rockyduval.com/event/hildegards-ordo-virtutum/
LOCATION:Holy Apostles Episcopal Church\, 612 Greenwood Ave\, Brooklyn\, New York\, NY\, 11218\, United States
ATTACH;FMTTYPE=image/jpeg:https://rockyduval.com/wp-content/uploads/2026/02/image3.jpeg
END:VEVENT
END:VCALENDAR