BEGIN:VCALENDAR
VERSION:2.0
PRODID:-//Rocky Duval - ECPv6.15.20//NONSGML v1.0//EN
CALSCALE:GREGORIAN
METHOD:PUBLISH
X-WR-CALNAME:Rocky Duval
X-ORIGINAL-URL:https://rockyduval.com
X-WR-CALDESC:Events for Rocky Duval
REFRESH-INTERVAL;VALUE=DURATION:PT1H
X-Robots-Tag:noindex
X-PUBLISHED-TTL:PT1H
BEGIN:VTIMEZONE
TZID:UTC
BEGIN:STANDARD
TZOFFSETFROM:+0000
TZOFFSETTO:+0000
TZNAME:UTC
DTSTART:20230101T000000
END:STANDARD
END:VTIMEZONE
BEGIN:VEVENT
DTSTART;VALUE=DATE:20240926
DTEND;VALUE=DATE:20240927
DTSTAMP:20260422T115122
CREATED:20230727T094914Z
LAST-MODIFIED:20240727T105703Z
UID:288-1727308800-1727395199@rockyduval.com
SUMMARY:Soloist\, Bach Magnificat and Acis and Galatea at Burlington Baroque Festival
DESCRIPTION:
URL:https://rockyduval.com/event/soloist-bach-magnificat-and-acis-and-galatea-at-burlington-baroque-festival/
LOCATION:The Cathedral Church of St. Paul\, 2 Cherry St\, Burlington\, VT\, 05401\, United States
ATTACH;FMTTYPE=image/jpeg:https://rockyduval.com/wp-content/uploads/2023/07/burlington-baroque.jpg
END:VEVENT
END:VCALENDAR