BEGIN:VCALENDAR
VERSION:2.0
PRODID:-//Rocky Duval - ECPv6.15.20//NONSGML v1.0//EN
CALSCALE:GREGORIAN
METHOD:PUBLISH
X-WR-CALNAME:Rocky Duval
X-ORIGINAL-URL:https://rockyduval.com
X-WR-CALDESC:Events for Rocky Duval
REFRESH-INTERVAL;VALUE=DURATION:PT1H
X-Robots-Tag:noindex
X-PUBLISHED-TTL:PT1H
BEGIN:VTIMEZONE
TZID:UTC
BEGIN:STANDARD
TZOFFSETFROM:+0000
TZOFFSETTO:+0000
TZNAME:UTC
DTSTART:20230101T000000
END:STANDARD
END:VTIMEZONE
BEGIN:VEVENT
DTSTART;VALUE=DATE:20240920
DTEND;VALUE=DATE:20240921
DTSTAMP:20260422T115042
CREATED:20240727T101709Z
LAST-MODIFIED:20240828T214552Z
UID:289-1726790400-1726876799@rockyduval.com
SUMMARY:Iro in Il Ritorno d'Ulysses with ARTEK
DESCRIPTION:A concert performance of Monteverdi’s beautiful 1639 opera with a stellar cast of 15 outstanding ARTEK singers.The story tells us of Ulysses (Richard Pittsinger) returning to his kingdom in Ithaca from his long travels\, where his wife Penelope (Kim Leeds) and son Telemaco (Jonas Budris) do not know if he is alive or dead. Penelope\, who is pressured to remarry\, devises an archery contest for her suitors which is won by Ulisse with the aid of Minerva (Christina Kay)\, and Penelope and Ulisse are reunited in a heartfelt ending. Don’t miss this love story for all time\, sung and accompanied brilliantly by ARTEK as a special 40th anniversary project.
URL:https://rockyduval.com/event/iro-in-il-ritorno-dulysses-with-artek/
LOCATION:Saint Ignatius of Antioch Episcopal Church\, 552 West End Avenue\, New York\, NY\, 10024\, United States
ATTACH;FMTTYPE=image/jpeg:https://rockyduval.com/wp-content/uploads/2024/07/ulysses.jpg
END:VEVENT
END:VCALENDAR